BEGIN:VCALENDAR
VERSION:2.0
CALSCALE:GREGORIAN
BEGIN:VEVENT
DTSTAMP:20260420T193808
DTSTART:20260430T170000
DTEND:20260430T183000
SUMMARY:Mizel Estate Wine Mixer
DESCRIPTION:Event Info: https://www.localwineevents.com/view/event/mizel-estate-wine-mixer/1001029
LOCATION:Mizel Estate Wines -- 1050 West Potrero Road Thousand Oaks, CA 91361
STATUS:CONFIRMED
SEQUENCE:0
TRANSP:OPAQUE
END:VEVENT
END:VCALENDAR
