BEGIN:VCALENDAR
VERSION:2.0
CALSCALE:GREGORIAN
BEGIN:VEVENT
DTSTAMP:20260420T175910
DTSTART:20260725T170000
DTEND:20260725T190000
SUMMARY:Lucas  Lewellen Summer Saturdays: Disco  Vino
DESCRIPTION:Event Info: https://www.localwineevents.com/view/event/lucas-lewellen-summer-saturdays-disco-vino/1001028
LOCATION:Lucas  Lewellen Tasting Room -- 1645 Copenhagen Drive Solvang, CA 93463
STATUS:CONFIRMED
SEQUENCE:0
TRANSP:OPAQUE
END:VEVENT
END:VCALENDAR
