BEGIN:VCALENDAR
VERSION:2.0
CALSCALE:GREGORIAN
BEGIN:VEVENT
DTSTAMP:20260420T113850
DTSTART:20260430T180000
DTEND:20260430T210000
SUMMARY:Inspired 2026 | Midnight In Bloom
DESCRIPTION:Event Info: https://www.localwineevents.com/view/event/inspired-2026-midnight-in-bloom/1001013
LOCATION:Tisdel Distributing -- 5901 East Galbraith Road, Cincinnati, OH 45236
STATUS:CONFIRMED
SEQUENCE:0
TRANSP:OPAQUE
END:VEVENT
END:VCALENDAR
