BEGIN:VCALENDAR
VERSION:2.0
CALSCALE:GREGORIAN
BEGIN:VEVENT
DTSTAMP:20260420T175544
DTSTART:20260627T170000
DTEND:20260627T190000
SUMMARY:Summer Saturday\'s At Lucas  Lewellen - Mom\'s Wines, An 80\'s Night
DESCRIPTION:Event Info: https://www.localwineevents.com/view/event/summer-saturdays-at-lucas-lewellen---moms-wines-an-80s-night/1001012
LOCATION:Lucas  Lewellen Vineyards Tasting Room -- 1645 Copenhagen Drive Solvang, CA 93463
STATUS:CONFIRMED
SEQUENCE:0
TRANSP:OPAQUE
END:VEVENT
END:VCALENDAR
