BEGIN:VCALENDAR
VERSION:2.0
CALSCALE:GREGORIAN
BEGIN:VEVENT
DTSTAMP:20260420T045404
DTSTART:20260430T183000
DTEND:20260430T203000
SUMMARY:Frey Catering Co.s Spring Tasting Soire
DESCRIPTION:Event Info: https://www.localwineevents.com/view/event/frey-catering-cos-spring-tasting-soire/1001011
LOCATION:Carpenter Creek Cellars -- 11144 Jordan Road Remington, IN 47977
STATUS:CONFIRMED
SEQUENCE:0
TRANSP:OPAQUE
END:VEVENT
END:VCALENDAR
