BEGIN:VCALENDAR
VERSION:2.0
CALSCALE:GREGORIAN
BEGIN:VEVENT
DTSTAMP:20260421T045027
DTSTART:20260430T183000
DTEND:20260430T200000
SUMMARY:A Sparkling Celebration
DESCRIPTION:Event Info: https://www.localwineevents.com/view/event/a-sparkling-celebration/1001005
LOCATION:2780 E Oakland Park Blvd -- 2780 East Oakland Park Boulevard Fort Lauderdale, FL 33306
STATUS:CONFIRMED
SEQUENCE:0
TRANSP:OPAQUE
END:VEVENT
END:VCALENDAR
