BEGIN:VCALENDAR
VERSION:2.0
CALSCALE:GREGORIAN
BEGIN:VEVENT
DTSTAMP:20260421T163927
DTSTART:20260430T190000
DTEND:20260430T210000
SUMMARY:2026 Tastemaker Awards | CultureMap Fort Worth
DESCRIPTION:Event Info: https://www.localwineevents.com/view/event/2026-tastemaker-awards-culturemap-fort-worth/1001004
LOCATION:The Social Space -- 205 South Calhoun Street Fort Worth, TX 76104
STATUS:CONFIRMED
SEQUENCE:0
TRANSP:OPAQUE
END:VEVENT
END:VCALENDAR
