BEGIN:VCALENDAR
VERSION:2.0
CALSCALE:GREGORIAN
BEGIN:VEVENT
DTSTAMP:20260421T162010
DTSTART:20260430T083000
DTEND:20260430T130000
SUMMARY:Laffort Rendezvous - Newberg
DESCRIPTION:Event Info: https://www.localwineevents.com/view/event/laffort-rendezvous---newberg/1000988
LOCATION:Chehalem Cultural Center -- 415 East Sheridan Street Newberg, OR 97132
STATUS:CONFIRMED
SEQUENCE:0
TRANSP:OPAQUE
END:VEVENT
END:VCALENDAR
