BEGIN:VCALENDAR
VERSION:2.0
CALSCALE:GREGORIAN
BEGIN:VEVENT
DTSTAMP:20260422T163826
DTSTART:20260430T173000
DTEND:20260430T193000
SUMMARY:ABC Seminole Premium Wine Tasting Experience
DESCRIPTION:Event Info: https://www.localwineevents.com/view/event/abc-seminole-premium-wine-tasting-experience/1000984
LOCATION:ABC Fine Wine  Spirits -- 11153 Park Boulevard Seminole, FL 33772
STATUS:CONFIRMED
SEQUENCE:0
TRANSP:OPAQUE
END:VEVENT
END:VCALENDAR
