BEGIN:VCALENDAR
VERSION:2.0
CALSCALE:GREGORIAN
BEGIN:VEVENT
DTSTAMP:20260420T212444
DTSTART:20260430T173000
DTEND:20260430T213000
SUMMARY:2026 Downtown Santa Barbara LIVE Art  Wine Tour
DESCRIPTION:Event Info: https://www.localwineevents.com/view/event/2026-downtown-santa-barbara-live-art-wine-tour/1000979
LOCATION:Santa Barbara Historical Museum -- 136 East De La Guerra Street Santa Barbara, CA 93101
STATUS:CONFIRMED
SEQUENCE:0
TRANSP:OPAQUE
END:VEVENT
END:VCALENDAR
