BEGIN:VCALENDAR
VERSION:2.0
CALSCALE:GREGORIAN
BEGIN:VEVENT
DTSTAMP:20260420T104254
DTSTART:20260430T183000
DTEND:20260430T200000
SUMMARY:Uncorked Wine Class Series 2026
DESCRIPTION:Event Info: https://www.localwineevents.com/view/event/uncorked-wine-class-series-2026/1000973
LOCATION:MDRD -- 187 Monroe Avenue Northwest Grand Rapids, MI 49503
STATUS:CONFIRMED
SEQUENCE:0
TRANSP:OPAQUE
END:VEVENT
END:VCALENDAR
