BEGIN:VCALENDAR
VERSION:2.0
CALSCALE:GREGORIAN
BEGIN:VEVENT
DTSTAMP:20260420T115654
DTSTART:20260430T163000
DTEND:20260430T180000
SUMMARY:Wine Tasting
DESCRIPTION:Event Info: https://www.localwineevents.com/view/event/wine-tasting/1000962
LOCATION:Kiln -- 1895 East Rodeo Walk Drive Holladay, UT 84117
STATUS:CONFIRMED
SEQUENCE:0
TRANSP:OPAQUE
END:VEVENT
END:VCALENDAR
