BEGIN:VCALENDAR
VERSION:2.0
CALSCALE:GREGORIAN
BEGIN:VEVENT
DTSTAMP:20260421T164051
DTSTART:20260430T173000
DTEND:20260430T200000
SUMMARY:Supper Club At Clearfork Neiman Marcus-  Thursday, April 30,  5:30pm
DESCRIPTION:Event Info: https://www.localwineevents.com/view/event/supper-club-at-clearfork-neiman-marcus--thursday-april-30-530pm/1000958
LOCATION:5200 Monahans Ave -- 5200 Monahans Avenue Fort Worth, TX 76109
STATUS:CONFIRMED
SEQUENCE:0
TRANSP:OPAQUE
END:VEVENT
END:VCALENDAR
