BEGIN:VCALENDAR
VERSION:2.0
CALSCALE:GREGORIAN
BEGIN:VEVENT
DTSTAMP:20260421T164121
DTSTART:20260429T180000
DTEND:20260429T200000
SUMMARY:Hands-On: Tiramis Al Limoncello
DESCRIPTION:Event Info: https://www.localwineevents.com/view/event/hands-on-tiramis-al-limoncello/1000938
LOCATION:Eataly Dallas -- 8687 North Central Expressway Dallas, TX 75225
STATUS:CONFIRMED
SEQUENCE:0
TRANSP:OPAQUE
END:VEVENT
END:VCALENDAR
