BEGIN:VCALENDAR
VERSION:2.0
CALSCALE:GREGORIAN
BEGIN:VEVENT
DTSTAMP:20260423T030828
DTSTART:20260429T183000
DTEND:20260429T210000
SUMMARY:Founders Club Cigar  Whiskey Tasting
DESCRIPTION:Event Info: https://www.localwineevents.com/view/event/founders-club-cigar-whiskey-tasting/1000937
LOCATION:Fairway Cigar Lounge -- 6729 Colonnade Avenue Melbourne, FL 32940
STATUS:CONFIRMED
SEQUENCE:0
TRANSP:OPAQUE
END:VEVENT
END:VCALENDAR
