BEGIN:VCALENDAR
VERSION:2.0
CALSCALE:GREGORIAN
BEGIN:VEVENT
DTSTAMP:20260421T161933
DTSTART:20260429T173000
DTEND:20260429T193000
SUMMARY:Craft Mixology Class: Mezcal Cocktails
DESCRIPTION:Event Info: https://www.localwineevents.com/view/event/craft-mixology-class-mezcal-cocktails/1000923
LOCATION:Straightaway Cocktails -- 901 Southeast Hawthorne Boulevard Portland, OR 97214
STATUS:CONFIRMED
SEQUENCE:0
TRANSP:OPAQUE
END:VEVENT
END:VCALENDAR
