BEGIN:VCALENDAR
VERSION:2.0
CALSCALE:GREGORIAN
BEGIN:VEVENT
DTSTAMP:20260420T114037
DTSTART:20260429T173000
DTEND:20260429T193000
SUMMARY:HighGrain Beer Sensory Classes
DESCRIPTION:Event Info: https://www.localwineevents.com/view/event/highgrain-beer-sensory-classes/1000912
LOCATION:HighGrain, Brentwood Brewpub -- 9176 Winton Road Cincinnati, OH 45231
STATUS:CONFIRMED
SEQUENCE:0
TRANSP:OPAQUE
END:VEVENT
END:VCALENDAR
