BEGIN:VCALENDAR
VERSION:2.0
CALSCALE:GREGORIAN
BEGIN:VEVENT
DTSTAMP:20260420T113915
DTSTART:20260429T180000
DTEND:20260429T210000
SUMMARY:Wine  Unwind Wednesday
DESCRIPTION:Event Info: https://www.localwineevents.com/view/event/wine-unwind-wednesday/1000901
LOCATION:vinology -- 3181 Linwood Avenue Cincinnati, OH 45208
STATUS:CONFIRMED
SEQUENCE:0
TRANSP:OPAQUE
END:VEVENT
END:VCALENDAR
