BEGIN:VCALENDAR
VERSION:2.0
CALSCALE:GREGORIAN
BEGIN:VEVENT
DTSTAMP:20260421T164727
DTSTART:20260429T183000
DTEND:20260429T210000
SUMMARY:New Orleans Steakhouse
DESCRIPTION:Event Info: https://www.localwineevents.com/view/event/new-orleans-steakhouse/1000892
LOCATION:Central Market Dallas Lovers Lane -- 5750 East Lovers Lane Dallas, TX 75206
STATUS:CONFIRMED
SEQUENCE:0
TRANSP:OPAQUE
END:VEVENT
END:VCALENDAR
