BEGIN:VCALENDAR
VERSION:2.0
CALSCALE:GREGORIAN
BEGIN:VEVENT
DTSTAMP:20260420T104152
DTSTART:20260429T183000
DTEND:20260429T203000
SUMMARY:MDRD X Eastern Kille Dinner
DESCRIPTION:Event Info: https://www.localwineevents.com/view/event/mdrd-x-eastern-kille-dinner/1000875
LOCATION:MDRD -- 187 Monroe Avenue Northwest Grand Rapids, MI 49503
STATUS:CONFIRMED
SEQUENCE:0
TRANSP:OPAQUE
END:VEVENT
END:VCALENDAR
