BEGIN:VCALENDAR
VERSION:2.0
CALSCALE:GREGORIAN
BEGIN:VEVENT
DTSTAMP:20260420T115658
DTSTART:20260429T180000
DTEND:20260429T210000
SUMMARY:Wine Wednesday Workshop: Kentucky Derby Hat Night
DESCRIPTION:Event Info: https://www.localwineevents.com/view/event/wine-wednesday-workshop-kentucky-derby-hat-night/1000868
LOCATION:101 Pine St -- 101 Pine Street Sheboygan Falls, WI 53085
STATUS:CONFIRMED
SEQUENCE:0
TRANSP:OPAQUE
END:VEVENT
END:VCALENDAR
