BEGIN:VCALENDAR
VERSION:2.0
CALSCALE:GREGORIAN
BEGIN:VEVENT
DTSTAMP:20260420T104314
DTSTART:20260429T180000
DTEND:20260429T210000
SUMMARY:Wheated Bourbon Dinner Featuring Weller And Pappy Van Winkle
DESCRIPTION:Event Info: https://www.localwineevents.com/view/event/wheated-bourbon-dinner-featuring-weller-and-pappy-van-winkle/1000864
LOCATION:Sandy Point Beach House -- 7175 Lake Shore Drive West Olive, MI 49460
STATUS:CONFIRMED
SEQUENCE:0
TRANSP:OPAQUE
END:VEVENT
END:VCALENDAR
