BEGIN:VCALENDAR
VERSION:2.0
CALSCALE:GREGORIAN
BEGIN:VEVENT
DTSTAMP:20260420T114836
DTSTART:20260429T180000
DTEND:20260429T200000
SUMMARY:Grgich Hills Wine Tasting  At Z Place For Wine
DESCRIPTION:Event Info: https://www.localwineevents.com/view/event/grgich-hills-wine-tasting-at-z-place-for-wine/1000863
LOCATION:Z Place for Wine -- 7823 Cooper Road Montgomery, OH 45242
STATUS:CONFIRMED
SEQUENCE:0
TRANSP:OPAQUE
END:VEVENT
END:VCALENDAR
