BEGIN:VCALENDAR
VERSION:2.0
CALSCALE:GREGORIAN
BEGIN:VEVENT
DTSTAMP:20260422T234723
DTSTART:20260429T173000
DTEND:20260429T193000
SUMMARY:ABC Lake Nona Premium Wine Tasting Experience
DESCRIPTION:Event Info: https://www.localwineevents.com/view/event/abc-lake-nona-premium-wine-tasting-experience/1000860
LOCATION:ABC Fine Wine  Spirits -- 12254 Narcoossee Road Orlando, FL 32827
STATUS:CONFIRMED
SEQUENCE:0
TRANSP:OPAQUE
END:VEVENT
END:VCALENDAR
