BEGIN:VCALENDAR
VERSION:2.0
CALSCALE:GREGORIAN
BEGIN:VEVENT
DTSTAMP:20260422T163956
DTSTART:20260429T183000
DTEND:20260429T203000
SUMMARY:Chateauneuf Du Pape Winemaker Dinner
DESCRIPTION:Event Info: https://www.localwineevents.com/view/event/chateauneuf-du-pape-winemaker-dinner/1000848
LOCATION:Chateau Cellars -- 2009 North 22nd Street Tampa, FL 33605
STATUS:CONFIRMED
SEQUENCE:0
TRANSP:OPAQUE
END:VEVENT
END:VCALENDAR
