BEGIN:VCALENDAR
VERSION:2.0
CALSCALE:GREGORIAN
BEGIN:VEVENT
DTSTAMP:20260421T164051
DTSTART:20260429T180000
DTEND:20260429T190000
SUMMARY:Wine Down Wednesday With Urban Yoga
DESCRIPTION:Event Info: https://www.localwineevents.com/view/event/wine-down-wednesday-with-urban-yoga/1000843
LOCATION:Winehaus -- 1628 Park Place Avenue Fort Worth, TX 76110
STATUS:CONFIRMED
SEQUENCE:0
TRANSP:OPAQUE
END:VEVENT
END:VCALENDAR
