BEGIN:VCALENDAR
VERSION:2.0
CALSCALE:GREGORIAN
BEGIN:VEVENT
DTSTAMP:20260420T074528
DTSTART:20260429T180000
DTEND:20260429T210000
SUMMARY:Becket\'s Rhone Valley Wine Dinner
DESCRIPTION:Event Info: https://www.localwineevents.com/view/event/beckets-rhone-valley-wine-dinner/1000828
LOCATION:Becket\'s -- 2 Jackson Street Oshkosh, WI 54901
STATUS:CONFIRMED
SEQUENCE:0
TRANSP:OPAQUE
END:VEVENT
END:VCALENDAR
