BEGIN:VCALENDAR
VERSION:2.0
CALSCALE:GREGORIAN
BEGIN:VEVENT
DTSTAMP:20260420T114038
DTSTART:20260502T180000
DTEND:20260502T210000
SUMMARY:Cinco De Vino
DESCRIPTION:Event Info: https://www.localwineevents.com/view/event/cinco-de-vino/1000824
LOCATION:Michael David Winery -- 4580 West Highway 12 Lodi, CA 95240
STATUS:CONFIRMED
SEQUENCE:0
TRANSP:OPAQUE
END:VEVENT
END:VCALENDAR
