BEGIN:VCALENDAR
VERSION:2.0
CALSCALE:GREGORIAN
BEGIN:VEVENT
DTSTAMP:20260420T175746
DTSTART:20260516T130000
DTEND:20260516T160000
SUMMARY:Country In The Vineyard
DESCRIPTION:Event Info: https://www.localwineevents.com/view/event/country-in-the-vineyard/1000823
LOCATION:Kessler-Haak Vineyard -- 1700 Gypsy Canyon Road Lompoc, CA 93436
STATUS:CONFIRMED
SEQUENCE:0
TRANSP:OPAQUE
END:VEVENT
END:VCALENDAR
