BEGIN:VCALENDAR
VERSION:2.0
CALSCALE:GREGORIAN
BEGIN:VEVENT
DTSTAMP:20260421T164032
DTSTART:20260609T000000
DTEND:20260609T000000
SUMMARY:Virtual Som-led Wine Tasting  Cruise Night  (April 14 Is Douro Valley)
DESCRIPTION:Event Info: https://www.localwineevents.com/view/tasting/virtual-som-led-wine-tasting-cruise-night-april-14-is-douro-valley/1000822
LOCATION:
STATUS:CONFIRMED
SEQUENCE:0
TRANSP:OPAQUE
END:VEVENT
END:VCALENDAR
