BEGIN:VCALENDAR
VERSION:2.0
CALSCALE:GREGORIAN
BEGIN:VEVENT
DTSTAMP:20260422T164910
DTSTART:20260606T180000
DTEND:20260606T200000
SUMMARY:Vine  Vibe Mini-Series - Wines Of South America At Renaissance Tampa
DESCRIPTION:Event Info: https://www.localwineevents.com/view/event/vine-vibe-mini-series---wines-of-south-america-at-renaissance-tampa/1000821
LOCATION:Renaissance Tampa International Plaza Hotel -- 4200 Jim Walter Blvd. Tampa, FL 33607
STATUS:CONFIRMED
SEQUENCE:0
TRANSP:OPAQUE
END:VEVENT
END:VCALENDAR
