BEGIN:VCALENDAR
VERSION:2.0
CALSCALE:GREGORIAN
BEGIN:VEVENT
DTSTAMP:20260421T161823
DTSTART:20260516T180000
DTEND:20260516T203000
SUMMARY:Our Vineyard Table Dinner
DESCRIPTION:Event Info: https://www.localwineevents.com/view/event/our-vineyard-table-dinner/1000810
LOCATION:Ambar Estate -- 12550 Northeast Worden Hill Road Newberg, Oregon 97132
STATUS:CONFIRMED
SEQUENCE:0
TRANSP:OPAQUE
END:VEVENT
END:VCALENDAR
