BEGIN:VCALENDAR
VERSION:2.0
CALSCALE:GREGORIAN
BEGIN:VEVENT
DTSTAMP:20260420T175701
DTSTART:20260613T123000
DTEND:20260613T160000
SUMMARY:16th Annual Summer Of Zin Featuring The Sun Kings
DESCRIPTION:Event Info: https://www.localwineevents.com/view/event/16th-annual-summer-of-zin-featuring-the-sun-kings/1000804
LOCATION:Dry Creek Vineyard -- 3770 Lambert Bridge Rd Healdsburg, California 95448
STATUS:CONFIRMED
SEQUENCE:0
TRANSP:OPAQUE
END:VEVENT
END:VCALENDAR
