BEGIN:VCALENDAR
VERSION:2.0
CALSCALE:GREGORIAN
BEGIN:VEVENT
DTSTAMP:20260422T152026
DTSTART:20260423T180000
DTEND:20260423T210000
SUMMARY:Spring Wine Walk In Downtown Campbell
DESCRIPTION:Event Info: https://www.localwineevents.com/view/event/spring-wine-walk-in-downtown-campbell/1000801
LOCATION:Downtown Campbell -- N. 1st St. and E. Campbell Ave Campbell, CA 95008
STATUS:CONFIRMED
SEQUENCE:0
TRANSP:OPAQUE
END:VEVENT
END:VCALENDAR
