BEGIN:VCALENDAR
VERSION:2.0
CALSCALE:GREGORIAN
BEGIN:VEVENT
DTSTAMP:20260420T133912
DTSTART:20260716T183000
DTEND:20260716T200000
SUMMARY:Vina Carmen Winery-Led Tasting: A Journey Through Chiles Terroirs
DESCRIPTION:Event Info: https://www.localwineevents.com/view/event/vina-carmen-winery-led-tasting-a-journey-through-chiles-terroirs/1000780
LOCATION:Total Wine  More | Laguna Crossroads -- 7707 Laguna Blvd. Suite 140 Elk Grove, California 95758
STATUS:CONFIRMED
SEQUENCE:0
TRANSP:OPAQUE
END:VEVENT
END:VCALENDAR
