BEGIN:VCALENDAR
VERSION:2.0
CALSCALE:GREGORIAN
BEGIN:VEVENT
DTSTAMP:20260421T131449
DTSTART:20260717T183000
DTEND:20260717T200000
SUMMARY:Rooted In Oakville: The Wines And Story Of Groth
DESCRIPTION:Event Info: https://www.localwineevents.com/view/event/rooted-in-oakville-the-wines-and-story-of-groth/1000772
LOCATION:Total Wine  More | Totowa Square -- 465 US HWY 46 Totowa, New Jersey 07512
STATUS:CONFIRMED
SEQUENCE:0
TRANSP:OPAQUE
END:VEVENT
END:VCALENDAR
