BEGIN:VCALENDAR
VERSION:2.0
CALSCALE:GREGORIAN
BEGIN:VEVENT
DTSTAMP:20260421T183144
DTSTART:20260424T180000
DTEND:20260424T200000
SUMMARY:Salud! An Introduction To Tequila  Mezcal
DESCRIPTION:Event Info: https://www.localwineevents.com/view/event/salud-an-introduction-to-tequila-mezcal/1000769
LOCATION:Total Wine  More | The Gates of Prosper -- 1191 Gates Parkway Prosper, Texas 75078
STATUS:CONFIRMED
SEQUENCE:0
TRANSP:OPAQUE
END:VEVENT
END:VCALENDAR
