BEGIN:VCALENDAR
VERSION:2.0
CALSCALE:GREGORIAN
BEGIN:VEVENT
DTSTAMP:20260421T132518
DTSTART:20260506T183000
DTEND:20260506T200000
SUMMARY:From Tip To ToeA Wine Tour Of Italy
DESCRIPTION:Event Info: https://www.localwineevents.com/view/event/from-tip-to-toea-wine-tour-of-italy/1000765
LOCATION:Total Wine  More | Candlewood Plaza Shopping Center -- 14 Candlewood Lake Rd Brookfield, Connecticut 06804
STATUS:CONFIRMED
SEQUENCE:0
TRANSP:OPAQUE
END:VEVENT
END:VCALENDAR
