BEGIN:VCALENDAR
VERSION:2.0
CALSCALE:GREGORIAN
BEGIN:VEVENT
DTSTAMP:20260421T184731
DTSTART:20260808T170000
DTEND:20260808T183000
SUMMARY:Wine And Cheese - A Guide To Perfect Pairings
DESCRIPTION:Event Info: https://www.localwineevents.com/view/event/wine-and-cheese---a-guide-to-perfect-pairings/1000662
LOCATION:Total Wine  More | The Village at Allen -- 190 East Stacy Road Allen, Texas 75002
STATUS:CONFIRMED
SEQUENCE:0
TRANSP:OPAQUE
END:VEVENT
END:VCALENDAR
