BEGIN:VCALENDAR
VERSION:2.0
CALSCALE:GREGORIAN
BEGIN:VEVENT
DTSTAMP:20260422T164115
DTSTART:20260806T180000
DTEND:20260806T193000
SUMMARY:Wine And Cheese - A Guide To Perfect Pairings
DESCRIPTION:Event Info: https://www.localwineevents.com/view/event/wine-and-cheese---a-guide-to-perfect-pairings/1000556
LOCATION:Total Wine  More | Triangle Plaza -- 6105 Capital Blvd Raleigh, North Carolina 27616
STATUS:CONFIRMED
SEQUENCE:0
TRANSP:OPAQUE
END:VEVENT
END:VCALENDAR
