BEGIN:VCALENDAR
VERSION:2.0
CALSCALE:GREGORIAN
BEGIN:VEVENT
DTSTAMP:20260420T212313
DTSTART:20260806T183000
DTEND:20260806T200000
SUMMARY:Wine And Cheese - A Guide To Perfect Pairings
DESCRIPTION:Event Info: https://www.localwineevents.com/view/event/wine-and-cheese---a-guide-to-perfect-pairings/1000477
LOCATION:Total Wine  More | Glendale Fashion Center -- 221 North Glendale Ave. Glendale, California 91206
STATUS:CONFIRMED
SEQUENCE:0
TRANSP:OPAQUE
END:VEVENT
END:VCALENDAR
