BEGIN:VCALENDAR
VERSION:2.0
CALSCALE:GREGORIAN
BEGIN:VEVENT
DTSTAMP:20260421T163956
DTSTART:20260604T160000
DTEND:20260604T190000
SUMMARY:Summer Jams: The Josh Cole Band At Rain Dance Vineyards
DESCRIPTION:Event Info: https://www.localwineevents.com/view/event/summer-jams-the-josh-cole-band-at-rain-dance-vineyards/1000255
LOCATION:Rain Dance Vineyards -- 3004 NE Zimri Drive NEWBERG, OR 97132
STATUS:CONFIRMED
SEQUENCE:0
TRANSP:OPAQUE
END:VEVENT
END:VCALENDAR
