BEGIN:VCALENDAR
VERSION:2.0
CALSCALE:GREGORIAN
BEGIN:VEVENT
DTSTAMP:20260421T161933
DTSTART:20260517T123000
DTEND:20260517T153000
SUMMARY:Pink! Ros Festival
DESCRIPTION:Event Info: https://www.localwineevents.com/view/event/pink-ros-festival/1000250
LOCATION:Hillsboro Ballpark -- 4460 NE Century Boulevard Hillsboro, OR 97124
STATUS:CONFIRMED
SEQUENCE:0
TRANSP:OPAQUE
END:VEVENT
END:VCALENDAR
