BEGIN:VCALENDAR
VERSION:2.0
CALSCALE:GREGORIAN
BEGIN:VEVENT
DTSTAMP:20260420T175659
DTSTART:20260425T130000
DTEND:20260425T160000
SUMMARY:Wine For Paws Fundraiser And The Taproots Att Dark Star Cellars
DESCRIPTION:Event Info: https://www.localwineevents.com/view/event/wine-for-paws-fundraiser-and-the-taproots-att-dark-star-cellars/1000231
LOCATION:Dark Star Cellars -- 2985 ANDERSON RD PASO ROBLES, California 93446-6610
STATUS:CONFIRMED
SEQUENCE:0
TRANSP:OPAQUE
END:VEVENT
END:VCALENDAR
