BEGIN:VCALENDAR
VERSION:2.0
CALSCALE:GREGORIAN
BEGIN:VEVENT
DTSTAMP:20260420T175735
DTSTART:20260502T130000
DTEND:20260502T160000
SUMMARY:Grateful To The Core BAnd At Dark Star Cellars
DESCRIPTION:Event Info: https://www.localwineevents.com/view/event/grateful-to-the-core-band-at-dark-star-cellars/1000229
LOCATION:Dark Star Cellars -- 2985 ANDERSON RD PASO ROBLES, California 93446-6610
STATUS:CONFIRMED
SEQUENCE:0
TRANSP:OPAQUE
END:VEVENT
END:VCALENDAR
