BEGIN:VCALENDAR
VERSION:2.0
CALSCALE:GREGORIAN
BEGIN:VEVENT
DTSTAMP:20260420T045541
DTSTART:20260422T180000
DTEND:20260715T190000
SUMMARY:Wine Education Wednesday
DESCRIPTION:Event Info: https://www.localwineevents.com/view/event/wine-education-wednesday/1000222
LOCATION:Local Pour -- 12857 Red Arrow Hwy Sawyer, MI 49125
STATUS:CONFIRMED
SEQUENCE:0
TRANSP:OPAQUE
END:VEVENT
END:VCALENDAR
