BEGIN:VCALENDAR
VERSION:2.0
CALSCALE:GREGORIAN
BEGIN:VEVENT
DTSTAMP:20260419T122529
DTSTART:20260428T190000
DTEND:20260428T220000
SUMMARY:Mandolin X Natoora X Rewilding Argentina
DESCRIPTION:Event Info: https://www.localwineevents.com/view/event/mandolin-x-natoora-x-rewilding-argentina/1000211
LOCATION:Mandolin Aegean Bistro Miami -- 4312 NE 2nd Ave Miami, FL 33137
STATUS:CONFIRMED
SEQUENCE:0
TRANSP:OPAQUE
END:VEVENT
END:VCALENDAR
