BEGIN:VCALENDAR
VERSION:2.0
CALSCALE:GREGORIAN
BEGIN:VEVENT
DTSTAMP:20260419T122531
DTSTART:20260428T180000
DTEND:20260428T210000
SUMMARY:Tequila  The Five Elements: Fire  Earth  Water  Air  Spirit
DESCRIPTION:Event Info: https://www.localwineevents.com/view/event/tequila-the-five-elements-fire-earth-water-air-spirit/1000187
LOCATION:530 NW 77th St -- 530 Northwest 77th Street Boca Raton, FL 33487
STATUS:CONFIRMED
SEQUENCE:0
TRANSP:OPAQUE
END:VEVENT
END:VCALENDAR
