BEGIN:VCALENDAR
VERSION:2.0
CALSCALE:GREGORIAN
BEGIN:VEVENT
DTSTAMP:20260421T163924
DTSTART:20260428T183000
DTEND:20260428T210000
SUMMARY:A Taste Of New Orleans
DESCRIPTION:Event Info: https://www.localwineevents.com/view/event/a-taste-of-new-orleans/1000139
LOCATION:Central Market Dallas Lovers Lane -- 5750 East Lovers Lane Dallas, TX 75206
STATUS:CONFIRMED
SEQUENCE:0
TRANSP:OPAQUE
END:VEVENT
END:VCALENDAR
