BEGIN:VCALENDAR
VERSION:2.0
CALSCALE:GREGORIAN
BEGIN:VEVENT
DTSTAMP:20260421T163928
DTSTART:20260428T180000
DTEND:20260428T200000
SUMMARY:Hands-On: Lasagna Alla Bolognese
DESCRIPTION:Event Info: https://www.localwineevents.com/view/event/hands-on-lasagna-alla-bolognese/1000127
LOCATION:Eataly Dallas, La Scuola -- 8687 North Central Expressway Dallas, TX 75225
STATUS:CONFIRMED
SEQUENCE:0
TRANSP:OPAQUE
END:VEVENT
END:VCALENDAR
